BEGIN:VCALENDAR
VERSION:2.0
PRODID:-//Cooperativa de Hostelería - ECPv4.6.23//NONSGML v1.0//EN
CALSCALE:GREGORIAN
METHOD:PUBLISH
X-WR-CALNAME:Cooperativa de Hostelería
X-ORIGINAL-URL:https://www.coope.com
X-WR-CALDESC:Eventos para Cooperativa de Hostelería
BEGIN:VEVENT
DTSTART;TZID=Europe/Madrid:20181022T163000
DTEND;TZID=Europe/Madrid:20181124T193000
DTSTAMP:20260425T182210
CREATED:20180905T105310Z
LAST-MODIFIED:20180905T110419Z
UID:3027-1540225800-1543087800@www.coope.com
SUMMARY:Tradición y vanguardia de la carne de caza
DESCRIPTION:Masterclass Aplicaciones Culinarias Tradicionales/Vanguardia de la carne de caza\nDónde Aula de Cooperativa. Polígono Iturrondo\, Burlada\nFecha 22 y 24 de octubre. Lunes y miércoles (6 horas)\nHorario de 16:30 a 19:30h\nInscripción formacion@hostelerianavarra.com\n \nPróximamente publicaremos la información detallada\, contenidos\, docentes\, objetivos\, etc. \n
URL:https://www.coope.com/event/tradicion-y-vanguardia-de-la-carne-de-caza/
ATTACH;FMTTYPE=image/jpeg:https://www.coope.com/wp-content/uploads/2018/09/pichon.jpg
END:VEVENT
END:VCALENDAR