BEGIN:VCALENDAR
VERSION:2.0
PRODID:-//Cooperativa de Hostelería - ECPv4.6.23//NONSGML v1.0//EN
CALSCALE:GREGORIAN
METHOD:PUBLISH
X-WR-CALNAME:Cooperativa de Hostelería
X-ORIGINAL-URL:https://www.coope.com
X-WR-CALDESC:Eventos para Cooperativa de Hostelería
BEGIN:VEVENT
DTSTART;TZID=Europe/Madrid:20180424T080000
DTEND;TZID=Europe/Madrid:20180515T170000
DTSTAMP:20260424T082141
CREATED:20180409T163756Z
LAST-MODIFIED:20180409T163756Z
UID:2031-1524556800-1526403600@www.coope.com
SUMMARY:LA IMPORTANCIA DE LA GESTIÓN ECONÓMICA EN TU EMPRESA (RESTAURANTE-ALOJAMIENTO)
DESCRIPTION:Conoce mejor las circunstancias que afectan a tu empresa para poder actuar con mayor eficiencia.  \nDurante este curso podremos arrojar luz sobre términos que son importantes para la empresa\, desde el punto de vista del gestor y del trabajador\, pero que muchas veces desconocemos.  \n¿Te gustaría saber qué es el punto de equilibrio o cómo nos influye la economía y lo que es más importante\, en que nos puede ayudar conocer todo esto para nuestra labor diaria?  pues esta es tu oportunidad. \n Fechas: 24 abril\, 8 y 15 de mayo\nHorario: 16:30 a 19:30 total (9 horas)\nPrecio: 80 euros SOCIOS AEHN\, COOPERATIVA\n110 euros NO SOCIOS \n
URL:https://www.coope.com/event/la-importancia-de-la-gestion-economica-en-tu-empresa-restaurante-alojamiento/
LOCATION:Aula Cooperativa de Hostelería de Navarra.\, Polígono Iturrondo\, Burlada\, Navarra\, 31600\, España
ATTACH;FMTTYPE=image/jpeg:https://www.coope.com/wp-content/uploads/2018/04/bar.jpg
END:VEVENT
END:VCALENDAR