BEGIN:VCALENDAR
VERSION:2.0
PRODID:-//Cooperativa de Hostelería - ECPv4.6.23//NONSGML v1.0//EN
CALSCALE:GREGORIAN
METHOD:PUBLISH
X-WR-CALNAME:Cooperativa de Hostelería
X-ORIGINAL-URL:https://www.coope.com
X-WR-CALDESC:Eventos para Cooperativa de Hostelería
BEGIN:VEVENT
DTSTART;TZID=Europe/Madrid:20180507T110000
DTEND;TZID=Europe/Madrid:20180507T130000
DTSTAMP:20260423T000240
CREATED:20180409T164525Z
LAST-MODIFIED:20180409T164525Z
UID:2035-1525690800-1525698000@www.coope.com
SUMMARY:Gestión de la calidad mínima garantizada y la vida útil de las distintas piezas de carne de vacuno.
DESCRIPTION:Jornada de difusión de los resultados del proyecto\nISFOOD-UPNA en colaboración con la Asociación de Hostelería y Turismo  de Navarra \nEl objetivo de este evento es informar y concienciar a los prescriptores y formadores de opinión (cocineros\, críticos gastronómicos\, autoridades competentes\, técnicos) sobre los factores que influyen en la calidad de la carne de vacuno. Durante la cata se servirán muestras de diferentes tipos de carne de vacuno\, que se utilizarán para comentar y analizar los diferentes factores que afectan a la calidad de la carne como son la raza\, el sexo y la edad de sacrificio\, la alimentación del animal y la maduración de la carne. \nEl show-cooking consistirá en una cata\, en horario de mañana\, en las que participarán unos 20 comensales pertenecientes al mundo empresarial\, científico- técnico\, gastronómico y hostelero. \nDirigido: Profesionales que trabajen con la carne de vacuno\, Asadores\, Sidrerías\, Restaurantes\, Gremios de Carniceros\, departamentos de venta al público… \nFecha: Lunes 7 de mayo\nHorario: De 11:00 a 13:00 horas   \nGratuito \nPara más información pueden ponerse en contacto:\nDepartamento de Formación formacion@hostelerianavarra.com\nT. 684 453 112 (Noelia Sampedro) \n
URL:https://www.coope.com/event/gestion-de-la-calidad-minima-garantizada-y-la-vida-util-de-las-distintas-piezas-de-carne-de-vacuno/
LOCATION:Aula Cooperativa de Hostelería de Navarra.\, Polígono Iturrondo\, Burlada\, Navarra\, 31600\, España
ATTACH;FMTTYPE=image/jpeg:https://www.coope.com/wp-content/uploads/2018/04/Steak_Selection_Box.jpg
END:VEVENT
END:VCALENDAR