BEGIN:VCALENDAR
VERSION:2.0
PRODID:-//Cooperativa de Hostelería - ECPv4.6.23//NONSGML v1.0//EN
CALSCALE:GREGORIAN
METHOD:PUBLISH
X-WR-CALNAME:Cooperativa de Hostelería
X-ORIGINAL-URL:https://www.coope.com
X-WR-CALDESC:Eventos para Cooperativa de Hostelería
BEGIN:VEVENT
DTSTART;TZID=Europe/Madrid:20181105T163000
DTEND;TZID=Europe/Madrid:20181107T193000
DTSTAMP:20260425T224523
CREATED:20180905T111223Z
LAST-MODIFIED:20180905T111246Z
UID:3039-1541435400-1541619000@www.coope.com
SUMMARY:Escandallo en la cocina
DESCRIPTION:Fecha 5 y 7 de noviembre. Lunes y miércoles (6 horas)\nHorario De 16.30 a 19.30 horas\nSede Aula Cooperativa de Hostelería. Polígono Iturrondo\, 6\, 31600 Burlada\nInscripciones formacion@hostelerianavarra.com \nEl escandallo\, como muchos de vosotros sabéis\, es un aspecto fundamental e imprescindible en la gestión en hostelería y cocina\, con el que controlamos qué precio poner a nuestros platos para que sean rentables\, así cómo para controlar y optimizar nuestro gasto. \nEl control y buena gestión de la materia prima es un aspecto fundamental para obtener un rendimiento económico positivo. Mantener una trazabilidad de los productos que vamos a utilizar para la elaboración de una receta\, nos facilitará realizar el cálculo de costes de la materia prima. \nEn definitiva\, el escandallo es una herramienta que nos ayuda a determinar el coste total de un plato (por persona) a través de la materia prima que interviene en la elaboración del mismo.  \n
URL:https://www.coope.com/event/escandallo-en-la-cocina/
ATTACH;FMTTYPE=image/jpeg:https://www.coope.com/wp-content/uploads/2018/09/escandallo-de-costes.jpg
END:VEVENT
END:VCALENDAR