BEGIN:VCALENDAR
VERSION:2.0
PRODID:-//Cooperativa de Hostelería - ECPv4.6.23//NONSGML v1.0//EN
CALSCALE:GREGORIAN
METHOD:PUBLISH
X-WR-CALNAME:Cooperativa de Hostelería
X-ORIGINAL-URL:https://www.coope.com
X-WR-CALDESC:Eventos para Cooperativa de Hostelería
BEGIN:VEVENT
DTSTART;VALUE=DATE:20171106
DTEND;VALUE=DATE:20171216
DTSTAMP:20260424T093153
CREATED:20171011T101916Z
LAST-MODIFIED:20171011T102149Z
UID:1286-1509926400-1513382399@www.coope.com
SUMMARY:El recurso de las actividades turísticas
DESCRIPTION:\nDónde: Aula Cooperativa de Hostelería\nCuando: Del 6 al 15 noviembre\nPlazas: 13\nFormador: Angel Mª Loperena\nDescarga: 154_Ficha inscripción alumnado 2017 cursos subvencionados.pdf\nFecha tope de inscripción: 30/10/2017\n\n\nDescripción\n\nAcción: 3\nDuración: 10 Horas.\nLugar de Impartición: Aula Cooperativa de Hostelería. Polígono Iturrondo\, 6. 31600 Burlada\nFechas Impartición: Del 6 al 15 de noviembre (lunes y miércoles).\nHorario: De 17:00 a 19\,30 h.\nCoste: Gratuito.\nParticipantes: Propietarios\, responsables y trabajadores de empresas turisticas que  estén en contacto directo con los turistas. \nDar a conocer a los profesionales del sector turístico la importancia de ofrecer a los clientes información sobre las empresas de actividades turísticas que operan en el entorno. \nOBJETIVOS \nConseguir que los trabajadores que están en contacto directo con los turistas (recepcionistas\, camareros\, propietarios de establecimientos turísticos\, oficinas de turismo\, etc.)\, conozcan la oferta de actividades turísticas de su entorno y\, sobre todo\, entiendan la importancia de dar esa información a los visitantes. \nCONTENIDOS \nUD-1 ¿Qué es la información turística? \n\n¿Quién es el informador turístico?\n\nUD-2 La importancia de la información para los propietarios y los trabajadores. \n\nLa importancia de informar y los momentos.\n\nUD-3 El reforzamiento de lo conocido y lo positivo. \n\nEl valor de la palabra\, el folleto y la pantalla\n\nUD-4 Conocimiento concéntrico de los recursos turísticos y las empresas que los presentan. \n\nEl feedback de los turistas\n\nUD-5 Repaso general y puesta en común de las dudas de cada alumno. \n\n\n
URL:https://www.coope.com/event/el-recurso-de-las-actividades-turisticas/
ATTACH;FMTTYPE=image/jpeg:https://www.coope.com/wp-content/uploads/2017/10/turistas-valencia.jpg
END:VEVENT
END:VCALENDAR