BEGIN:VCALENDAR
VERSION:2.0
PRODID:-//Cooperativa de Hostelería - ECPv4.6.23//NONSGML v1.0//EN
CALSCALE:GREGORIAN
METHOD:PUBLISH
X-WR-CALNAME:Cooperativa de Hostelería
X-ORIGINAL-URL:https://www.coope.com
X-WR-CALDESC:Eventos para Cooperativa de Hostelería
BEGIN:VEVENT
DTSTART;TZID=Europe/Madrid:20181119T163000
DTEND;TZID=Europe/Madrid:20181127T193000
DTSTAMP:20260425T224359
CREATED:20180905T112839Z
LAST-MODIFIED:20180905T112839Z
UID:3045-1542645000-1543347000@www.coope.com
SUMMARY:Cata y maridajes de cervezas
DESCRIPTION:Fecha Lunes 19 y martes 27 de noviembre (6 horas)\nHorario De 16.30 a 19.30 horas\nSede Aula Cooperativa de Hostelería. Polígono Iturrondo\, 6\, 31600 Burlada\nInscripciones formacion@hostelerianavarra.com \n
URL:https://www.coope.com/event/cata-y-maridajes-de-cervezas/
ATTACH;FMTTYPE=image/jpeg:https://www.coope.com/wp-content/uploads/2018/09/Science-of-Pairing.jpg
END:VEVENT
END:VCALENDAR